BEGIN:VCALENDAR
VERSION:2.0
PRODID:-//empowercdc.org//NONSGML kigkonsult.se iCalcreator 2.30.10//
CALSCALE:GREGORIAN
METHOD:PUBLISH
UID:a1bf5985-c157-484b-845a-23ef75255601
X-WR-CALDESC:Come get free books and treat bags! The residents who register
  for this event can receive a Halloween Prize!
X-WR-RELCALID:a7dfe3856215e1da213d3a6d917bc3e0
X-WR-TIMEZONE:America/Chicago
BEGIN:VTIMEZONE
TZID:America/Chicago
BEGIN:STANDARD
TZNAME:CST
DTSTART:20191103T020000
TZOFFSETFROM:-0500
TZOFFSETTO:-0600
RDATE:20201101T020000
RDATE:20211107T020000
END:STANDARD
BEGIN:DAYLIGHT
TZNAME:CDT
DTSTART:20200308T020000
TZOFFSETFROM:-0600
TZOFFSETTO:-0500
RDATE:20210314T020000
RDATE:20220313T020000
END:DAYLIGHT
END:VTIMEZONE
BEGIN:VEVENT
UID:7dede755-aa1f-4085-90c3-430088aeb917
DTSTAMP:20260425T160601Z
DESCRIPTION:Come get free books and treat bags! The residents who register 
 for this event can receive a Halloween Prize!
DTSTART;TZID=America/Chicago:20201024T180000
DTEND;TZID=America/Chicago:20201024T190000
LOCATION:Outside of the Leasing Office
SUMMARY:Kids Reading Room Book Give Away
END:VEVENT
END:VCALENDAR
