BEGIN:VCALENDAR
VERSION:2.0
PRODID:-//empowercdc.org//NONSGML kigkonsult.se iCalcreator 2.30.10//
CALSCALE:GREGORIAN
METHOD:PUBLISH
UID:670d2743-0aa3-4614-8bce-2f60005c8736
X-WR-CALDESC:Register for a Flu shot outside by October 19th! Masks will be
  mandatory for to attend.
X-WR-RELCALID:4c4942e68d42ab9a7eda945f7599f803
X-WR-TIMEZONE:America/Chicago
BEGIN:VTIMEZONE
TZID:America/Chicago
BEGIN:STANDARD
TZNAME:CST
DTSTART:20191103T020000
TZOFFSETFROM:-0500
TZOFFSETTO:-0600
RDATE:20201101T020000
RDATE:20211107T020000
END:STANDARD
BEGIN:DAYLIGHT
TZNAME:CDT
DTSTART:20200308T020000
TZOFFSETFROM:-0600
TZOFFSETTO:-0500
RDATE:20210314T020000
RDATE:20220313T020000
END:DAYLIGHT
END:VTIMEZONE
BEGIN:VEVENT
UID:863bf3ef-a070-4524-bd3e-35846a04d5f9
DTSTAMP:20260425T160947Z
DESCRIPTION:Register for a Flu shot outside by October 19th! Masks will be 
 mandatory for to attend.
DTSTART;TZID=America/Chicago:20201022T160000
DTEND;TZID=America/Chicago:20201022T170000
LOCATION:Outside of the Leasing Office
SUMMARY:Free Flu Shot!
END:VEVENT
END:VCALENDAR
