BEGIN:VCALENDAR
VERSION:2.0
PRODID:-//empowercdc.org//NONSGML kigkonsult.se iCalcreator 2.30.10//
CALSCALE:GREGORIAN
METHOD:PUBLISH
UID:e72795fb-2c89-4254-bdfc-c418694c1d0b
X-WR-CALDESC:Join Education Based Housing online to enter your scariest fac
 e mask into the Scariest Face Mask Competition! If you do not have a mask 
 to decorate\, please contact us and one will be given to you.
X-WR-RELCALID:7bee22edfe820e638081c41f24ff1d15
X-WR-TIMEZONE:America/Chicago
BEGIN:VTIMEZONE
TZID:America/Chicago
BEGIN:STANDARD
TZNAME:CST
DTSTART:20191103T020000
TZOFFSETFROM:-0500
TZOFFSETTO:-0600
RDATE:20201101T020000
RDATE:20211107T020000
END:STANDARD
BEGIN:DAYLIGHT
TZNAME:CDT
DTSTART:20200308T020000
TZOFFSETFROM:-0600
TZOFFSETTO:-0500
RDATE:20210314T020000
RDATE:20220313T020000
END:DAYLIGHT
END:VTIMEZONE
BEGIN:VEVENT
UID:7b18f6eb-27f5-4217-b167-5d87366bd9bc
DTSTAMP:20260425T160337Z
DESCRIPTION:Join Education Based Housing online to enter your scariest face
  mask into the Scariest Face Mask Competition! If you do not have a mask t
 o decorate\, please contact us and one will be given to you.
DTSTART;TZID=America/Chicago:20201019T160000
DTEND;TZID=America/Chicago:20201019T170000
LOCATION:
SUMMARY:Scariest Mask Decoration Competition!
END:VEVENT
END:VCALENDAR
