BEGIN:VCALENDAR
VERSION:2.0
PRODID:-//empowercdc.org//NONSGML kigkonsult.se iCalcreator 2.30.10//
CALSCALE:GREGORIAN
METHOD:PUBLISH
UID:4f460cae-7641-4071-a6bd-cd49f9efd5a9
X-WR-CALDESC:Join Education Based Housing's Door Decoration Competition bet
 ween October 15th and October 29th to win a $50 gift card and other prizes
 ! Contact your Supportive Service Coordinator if you are in need of decora
 ting supplies.
X-WR-RELCALID:2748f2150317c3919645760ccaadd737
X-WR-TIMEZONE:America/Chicago
BEGIN:VTIMEZONE
TZID:America/Chicago
BEGIN:STANDARD
TZNAME:CST
DTSTART:20191103T020000
TZOFFSETFROM:-0500
TZOFFSETTO:-0600
RDATE:20201101T020000
RDATE:20211107T020000
END:STANDARD
BEGIN:DAYLIGHT
TZNAME:CDT
DTSTART:20200308T020000
TZOFFSETFROM:-0600
TZOFFSETTO:-0500
RDATE:20210314T020000
RDATE:20220313T020000
END:DAYLIGHT
END:VTIMEZONE
BEGIN:VEVENT
UID:98c67af4-9295-4480-9e3c-419a9b40a420
DTSTAMP:20260425T160601Z
DESCRIPTION:Join Education Based Housing's Door Decoration Competition betw
 een October 15th and October 29th to win a $50 gift card and other prizes!
  Contact your Supportive Service Coordinator if you are in need of decorat
 ing supplies.
DTSTART;TZID=America/Chicago:20201008T000000
DTEND;TZID=America/Chicago:20201008T235900
LOCATION:
SUMMARY:Door Decorating Competition!
END:VEVENT
END:VCALENDAR
