BEGIN:VCALENDAR
VERSION:2.0
PRODID:-//empowercdc.org//NONSGML kigkonsult.se iCalcreator 2.30.10//
CALSCALE:GREGORIAN
METHOD:PUBLISH
UID:30991226-5773-43c0-b635-4302b2e6dccd
X-WR-CALDESC:Join Education Based Housing in a time of silence and reflecti
 on.
X-WR-RELCALID:287ba26ee881d7b06cce4f6c04a00513
X-WR-TIMEZONE:America/Chicago
BEGIN:VTIMEZONE
TZID:America/Chicago
BEGIN:STANDARD
TZNAME:CST
DTSTART:20191103T020000
TZOFFSETFROM:-0500
TZOFFSETTO:-0600
RDATE:20201101T020000
RDATE:20211107T020000
END:STANDARD
BEGIN:DAYLIGHT
TZNAME:CDT
DTSTART:20200308T020000
TZOFFSETFROM:-0600
TZOFFSETTO:-0500
RDATE:20210314T020000
RDATE:20220313T020000
END:DAYLIGHT
END:VTIMEZONE
BEGIN:VEVENT
UID:dde4712f-b575-4276-8d9d-e04b1bdfee2a
DTSTAMP:20260425T172645Z
DESCRIPTION:Join Education Based Housing in a time of silence and reflectio
 n.
DTSTART;TZID=America/Chicago:20200929T173000
DTEND;TZID=America/Chicago:20200929T183000
LOCATION:
SUMMARY:Online Meditation
END:VEVENT
END:VCALENDAR
