BEGIN:VCALENDAR
VERSION:2.0
PRODID:-//empowercdc.org//NONSGML kigkonsult.se iCalcreator 2.30.10//
CALSCALE:GREGORIAN
METHOD:PUBLISH
UID:e17cf65b-a48d-4911-a32e-b8e9be72df7e
X-WR-CALDESC:Create holiday gifts or decorations only using the items in yo
 ur household. Will your creation be the most unique?
X-WR-RELCALID:77a432eb38779e892feec5f44cf8feb5
X-WR-TIMEZONE:America/Chicago
BEGIN:VTIMEZONE
TZID:America/Chicago
BEGIN:STANDARD
TZNAME:CST
DTSTART:20191103T020000
TZOFFSETFROM:-0500
TZOFFSETTO:-0600
RDATE:20201101T020000
RDATE:20211107T020000
END:STANDARD
BEGIN:DAYLIGHT
TZNAME:CDT
DTSTART:20200308T020000
TZOFFSETFROM:-0600
TZOFFSETTO:-0500
RDATE:20210314T020000
RDATE:20220313T020000
END:DAYLIGHT
END:VTIMEZONE
BEGIN:VEVENT
UID:91e3861b-f4c3-4dc3-9f8b-e4bc828498ee
DTSTAMP:20260425T172839Z
DESCRIPTION:Create holiday gifts or decorations only using the items in you
 r household. Will your creation be the most unique?
DTSTART;TZID=America/Chicago:20200918T140000
DTEND;TZID=America/Chicago:20200918T150000
LOCATION:
SUMMARY:No Purchase Challenge
END:VEVENT
END:VCALENDAR
