BEGIN:VCALENDAR
VERSION:2.0
PRODID:-//empowercdc.org//NONSGML kigkonsult.se iCalcreator 2.30.10//
CALSCALE:GREGORIAN
METHOD:PUBLISH
UID:b7c00354-5266-4f5d-a675-e0c80ca67ca6
X-WR-CALDESC:Come create fun crafts using common kitchen items! Register by
  September 9th at 6 PM.
X-WR-RELCALID:d0f35a652dcff1e17632452f781d7b45
X-WR-TIMEZONE:America/Chicago
BEGIN:VTIMEZONE
TZID:America/Chicago
BEGIN:STANDARD
TZNAME:CST
DTSTART:20191103T020000
TZOFFSETFROM:-0500
TZOFFSETTO:-0600
RDATE:20201101T020000
RDATE:20211107T020000
END:STANDARD
BEGIN:DAYLIGHT
TZNAME:CDT
DTSTART:20200308T020000
TZOFFSETFROM:-0600
TZOFFSETTO:-0500
RDATE:20210314T020000
END:DAYLIGHT
END:VTIMEZONE
BEGIN:VEVENT
UID:82b70905-b643-4019-94cc-917480cc3b41
DTSTAMP:20260425T172941Z
DESCRIPTION:Come create fun crafts using common kitchen items! Register by 
 September 9th at 6 PM.
DTSTART;TZID=America/Chicago:20200910T150000
DTEND;TZID=America/Chicago:20200910T160000
LOCATION:
SUMMARY:Kitchen Krafts: Slime
END:VEVENT
END:VCALENDAR
