BEGIN:VCALENDAR
VERSION:2.0
PRODID:-//empowercdc.org//NONSGML kigkonsult.se iCalcreator 2.30.10//
CALSCALE:GREGORIAN
METHOD:PUBLISH
UID:b7bdb7c2-6f84-47e2-b3eb-349623001ae2
X-WR-CALDESC:Get a chance to win a $25 Gift Card and learn about nutritious
  foods! Register by 6 PM September 21st.
X-WR-RELCALID:86d56d54af82ff2b3b1f3541aa702e60
X-WR-TIMEZONE:America/Chicago
BEGIN:VTIMEZONE
TZID:America/Chicago
BEGIN:STANDARD
TZNAME:CST
DTSTART:20191103T020000
TZOFFSETFROM:-0500
TZOFFSETTO:-0600
RDATE:20201101T020000
RDATE:20211107T020000
END:STANDARD
BEGIN:DAYLIGHT
TZNAME:CDT
DTSTART:20200308T020000
TZOFFSETFROM:-0600
TZOFFSETTO:-0500
RDATE:20210314T020000
END:DAYLIGHT
END:VTIMEZONE
BEGIN:VEVENT
UID:17d52a3a-6c42-46e1-aeb5-9b4860931e79
DTSTAMP:20260425T173121Z
DESCRIPTION:Get a chance to win a $25 Gift Card and learn about nutritious 
 foods! Register by 6 PM September 21st.
DTSTART;TZID=America/Chicago:20200907T000000
DTEND;TZID=America/Chicago:20200921T235900
LOCATION:
SUMMARY:Health and Nutrition Raffle
END:VEVENT
END:VCALENDAR
