BEGIN:VCALENDAR
VERSION:2.0
PRODID:-//empowercdc.org//NONSGML kigkonsult.se iCalcreator 2.30.10//
CALSCALE:GREGORIAN
METHOD:PUBLISH
UID:a7593913-a81f-41eb-b6eb-af7b48f0e252
X-WR-CALDESC:
X-WR-RELCALID:9f98736ae3d188e6dfdf9d0c6fcd3824
X-WR-TIMEZONE:America/Chicago
BEGIN:VTIMEZONE
TZID:America/Chicago
BEGIN:STANDARD
TZNAME:CST
DTSTART:20191103T020000
TZOFFSETFROM:-0500
TZOFFSETTO:-0600
RDATE:20201101T020000
RDATE:20211107T020000
END:STANDARD
BEGIN:DAYLIGHT
TZNAME:CDT
DTSTART:20200308T020000
TZOFFSETFROM:-0600
TZOFFSETTO:-0500
RDATE:20210314T020000
END:DAYLIGHT
END:VTIMEZONE
BEGIN:VEVENT
UID:8f799d0d-8cbc-4996-93a3-fc1d6ea26b05
DTSTAMP:20260425T174509Z
DESCRIPTION:
DTSTART;TZID=America/Chicago:20200903T110000
DTEND;TZID=America/Chicago:20200903T120000
LOCATION:
SUMMARY:Cold Treat with Education Based Housing
END:VEVENT
END:VCALENDAR
