BEGIN:VCALENDAR
VERSION:2.0
PRODID:-//empowercdc.org//NONSGML kigkonsult.se iCalcreator 2.30.10//
CALSCALE:GREGORIAN
METHOD:PUBLISH
UID:cfded619-6900-4892-b095-9fb682013739
X-WR-CALDESC:Are you an August birthday baby?\nJoin us as we celebrate Augu
 st birthdays with cupcakes! Contact your Resident Engagement Specialist fo
 r details.
X-WR-RELCALID:b79315a32fa184594b1ebe3d936c28b5
X-WR-TIMEZONE:America/Chicago
BEGIN:VTIMEZONE
TZID:America/Chicago
BEGIN:STANDARD
TZNAME:CST
DTSTART:20191103T020000
TZOFFSETFROM:-0500
TZOFFSETTO:-0600
RDATE:20201101T020000
RDATE:20211107T020000
END:STANDARD
BEGIN:DAYLIGHT
TZNAME:CDT
DTSTART:20200308T020000
TZOFFSETFROM:-0600
TZOFFSETTO:-0500
RDATE:20210314T020000
END:DAYLIGHT
END:VTIMEZONE
BEGIN:VEVENT
UID:9bc0c24f-70b8-425b-828c-e836b6bfa405
DTSTAMP:20260425T190411Z
DESCRIPTION:Are you an August birthday baby?\nJoin us as we celebrate Augus
 t birthdays with cupcakes! Contact your Resident Engagement Specialist for
  details.
DTSTART;TZID=America/Chicago:20200828T120000
DTEND;TZID=America/Chicago:20200828T130000
LOCATION:Front of Leasing Office
SUMMARY:Drive-thru Birthday Social
END:VEVENT
END:VCALENDAR
