BEGIN:VCALENDAR
VERSION:2.0
PRODID:-//empowercdc.org//NONSGML kigkonsult.se iCalcreator 2.30.10//
CALSCALE:GREGORIAN
METHOD:PUBLISH
UID:97599fe0-5762-4bbc-9879-d74774c71299
X-WR-CALDESC:It's Virtual Bingo! Are you game?\nCome join our virtual bingo
  game for fun and prizes! Contact your Resident Engagement Specialist for 
 details.
X-WR-RELCALID:f662077be57bc4a9370fc886aa0ab8ab
X-WR-TIMEZONE:America/Chicago
BEGIN:VTIMEZONE
TZID:America/Chicago
BEGIN:STANDARD
TZNAME:CST
DTSTART:20191103T020000
TZOFFSETFROM:-0500
TZOFFSETTO:-0600
RDATE:20201101T020000
RDATE:20211107T020000
END:STANDARD
BEGIN:DAYLIGHT
TZNAME:CDT
DTSTART:20200308T020000
TZOFFSETFROM:-0600
TZOFFSETTO:-0500
RDATE:20210314T020000
END:DAYLIGHT
END:VTIMEZONE
BEGIN:VEVENT
UID:43c20f67-0277-4d88-b066-d5da3ae0974a
DTSTAMP:20260425T191010Z
DESCRIPTION:It's Virtual Bingo! Are you game?\nCome join our virtual bingo 
 game for fun and prizes! Contact your Resident Engagement Specialist for d
 etails.
DTSTART;TZID=America/Chicago:20200814T150000
DTEND;TZID=America/Chicago:20200814T160000
LOCATION:Online
SUMMARY:Virtual Bingo!
END:VEVENT
END:VCALENDAR
