BEGIN:VCALENDAR
VERSION:2.0
PRODID:-//empowercdc.org//NONSGML kigkonsult.se iCalcreator 2.30.10//
CALSCALE:GREGORIAN
METHOD:PUBLISH
UID:56f02a86-19d2-4bb2-8c76-10a7a4b49c1f
X-WR-CALDESC:Would you and your kids like something fun to do this summer? 
 Then look no further!\nJoin us as we share arts and craft activities with 
 supplies include! This is something for the whole family! Contact your Res
 ident Engagement Specialist for details.
X-WR-RELCALID:447042bb4c5aed8653445cdaba343423
X-WR-TIMEZONE:America/Chicago
BEGIN:VTIMEZONE
TZID:America/Chicago
BEGIN:STANDARD
TZNAME:CST
DTSTART:20191103T020000
TZOFFSETFROM:-0500
TZOFFSETTO:-0600
RDATE:20201101T020000
RDATE:20211107T020000
END:STANDARD
BEGIN:DAYLIGHT
TZNAME:CDT
DTSTART:20200308T020000
TZOFFSETFROM:-0600
TZOFFSETTO:-0500
RDATE:20210314T020000
END:DAYLIGHT
END:VTIMEZONE
BEGIN:VEVENT
UID:9cc611a4-49e5-4dad-b5a7-77fe8aabe571
DTSTAMP:20260425T190108Z
DESCRIPTION:Would you and your kids like something fun to do this summer? T
 hen look no further!\nJoin us as we share arts and craft activities with s
 upplies include! This is something for the whole family! Contact your Resi
 dent Engagement Specialist for details.
DTSTART;TZID=America/Chicago:20200812T120000
DTEND;TZID=America/Chicago:20200812T130000
LOCATION:Front of Leasing Office
SUMMARY:Summer Arts & Crafts
END:VEVENT
END:VCALENDAR
