BEGIN:VCALENDAR
VERSION:2.0
PRODID:-//empowercdc.org//NONSGML kigkonsult.se iCalcreator 2.30.10//
CALSCALE:GREGORIAN
METHOD:PUBLISH
UID:142112ff-0006-4ad8-aa7d-eb9613cee9df
X-WR-CALDESC:Are you a July birthday baby? Then come join us as we celebrat
 e all July birthdays with cupcakes!
X-WR-RELCALID:df5490223f480064c2472855e2847d29
X-WR-TIMEZONE:America/Chicago
BEGIN:VTIMEZONE
TZID:America/Chicago
BEGIN:STANDARD
TZNAME:CST
DTSTART:20191103T020000
TZOFFSETFROM:-0500
TZOFFSETTO:-0600
RDATE:20201101T020000
RDATE:20211107T020000
END:STANDARD
BEGIN:DAYLIGHT
TZNAME:CDT
DTSTART:20200308T020000
TZOFFSETFROM:-0600
TZOFFSETTO:-0500
RDATE:20210314T020000
END:DAYLIGHT
END:VTIMEZONE
BEGIN:VEVENT
UID:2eb4dad1-9f8c-4c30-b946-4f825f99bb6d
DTSTAMP:20260425T203404Z
DESCRIPTION:Are you a July birthday baby? Then come join us as we celebrate
  all July birthdays with cupcakes!
DTSTART;TZID=America/Chicago:20200731T120000
DTEND;TZID=America/Chicago:20200731T130000
LOCATION:Front of Leasing Office
SUMMARY:Community Birthday Social
END:VEVENT
END:VCALENDAR
