BEGIN:VCALENDAR
VERSION:2.0
PRODID:-//empowercdc.org//NONSGML kigkonsult.se iCalcreator 2.30.10//
CALSCALE:GREGORIAN
METHOD:PUBLISH
UID:a2a13783-650e-425c-8b0a-1e453b3ac9f1
X-WR-CALDESC:Virtual Tai Chi Classes\nHosted by Baker Ripley via Zoom @ 9:3
 0AM\nREGISTER BY PHONE: 713-685-6577\nEMAIL: kgilliam@BAKERRIPLEY.ORG\n
X-WR-RELCALID:5c090c44b28084edc8dbc6ea509ac837
X-WR-TIMEZONE:America/Chicago
BEGIN:VTIMEZONE
TZID:America/Chicago
BEGIN:STANDARD
TZNAME:CST
DTSTART:20191103T020000
TZOFFSETFROM:-0500
TZOFFSETTO:-0600
RDATE:20201101T020000
RDATE:20211107T020000
END:STANDARD
BEGIN:DAYLIGHT
TZNAME:CDT
DTSTART:20200308T020000
TZOFFSETFROM:-0600
TZOFFSETTO:-0500
RDATE:20210314T020000
END:DAYLIGHT
END:VTIMEZONE
BEGIN:VEVENT
UID:3d1442a2-6e0d-4e44-9132-132d37d45b30
DTSTAMP:20260425T203235Z
DESCRIPTION:Virtual Tai Chi Classes\nHosted by Baker Ripley via Zoom @ 9:30
 AM\nREGISTER BY PHONE: 713-685-6577\nEMAIL: kgilliam@BAKERRIPLEY.ORG\n
DTSTART;TZID=America/Chicago:20200729T093000
DTEND;TZID=America/Chicago:20200729T103000
LOCATION:Online
SUMMARY:Virtual Tai Chi Class
END:VEVENT
END:VCALENDAR
