BEGIN:VCALENDAR
VERSION:2.0
PRODID:-//empowercdc.org//NONSGML kigkonsult.se iCalcreator 2.30.10//
CALSCALE:GREGORIAN
METHOD:PUBLISH
UID:61f5298e-c575-40b5-8b37-9ea16b05b498
X-WR-CALDESC:Virtual Tai Chi Classes\nHosted by Baker Ripley via Zoom @ 9:3
 0AM\nREGISTER BY PHONE: 713-685-6577\nEMAIL: kgilliam@BAKERRIPLEY.ORG\n
X-WR-RELCALID:202276b414b546a7a8896ebfcc0c60d4
X-WR-TIMEZONE:America/Chicago
BEGIN:VTIMEZONE
TZID:America/Chicago
BEGIN:STANDARD
TZNAME:CST
DTSTART:20191103T020000
TZOFFSETFROM:-0500
TZOFFSETTO:-0600
RDATE:20201101T020000
RDATE:20211107T020000
END:STANDARD
BEGIN:DAYLIGHT
TZNAME:CDT
DTSTART:20200308T020000
TZOFFSETFROM:-0600
TZOFFSETTO:-0500
RDATE:20210314T020000
END:DAYLIGHT
END:VTIMEZONE
BEGIN:VEVENT
UID:1e665d52-ea9f-41d3-ae7a-e8f3483158b8
DTSTAMP:20260425T203354Z
DESCRIPTION:Virtual Tai Chi Classes\nHosted by Baker Ripley via Zoom @ 9:30
 AM\nREGISTER BY PHONE: 713-685-6577\nEMAIL: kgilliam@BAKERRIPLEY.ORG\n
DTSTART;TZID=America/Chicago:20200722T093000
DTEND;TZID=America/Chicago:20200722T103000
LOCATION:Online
SUMMARY:Virtual Tai Chi Class
END:VEVENT
END:VCALENDAR
