BEGIN:VCALENDAR
VERSION:2.0
PRODID:-//empowercdc.org//NONSGML kigkonsult.se iCalcreator 2.30.10//
CALSCALE:GREGORIAN
METHOD:PUBLISH
UID:9e22776f-7d03-4869-9fd5-d8d1d560ef1c
X-WR-CALDESC:
X-WR-RELCALID:94f18f92fb5cf69438916c49c8692406
X-WR-TIMEZONE:America/Chicago
BEGIN:VTIMEZONE
TZID:America/Chicago
BEGIN:STANDARD
TZNAME:CST
DTSTART:20191103T020000
TZOFFSETFROM:-0500
TZOFFSETTO:-0600
RDATE:20201101T020000
RDATE:20211107T020000
END:STANDARD
BEGIN:DAYLIGHT
TZNAME:CDT
DTSTART:20200308T020000
TZOFFSETFROM:-0600
TZOFFSETTO:-0500
RDATE:20210314T020000
END:DAYLIGHT
END:VTIMEZONE
BEGIN:VEVENT
UID:dadb107f-00fe-44a6-9b65-465b4f046d18
DTSTAMP:20260425T204825Z
DESCRIPTION:
DTSTART;TZID=America/Chicago:20200721T140000
DTEND;TZID=America/Chicago:20200721T150000
LOCATION:
SUMMARY:Workforce Solutions Virtual Session
END:VEVENT
END:VCALENDAR
