BEGIN:VCALENDAR
VERSION:2.0
PRODID:-//empowercdc.org//NONSGML kigkonsult.se iCalcreator 2.30.10//
CALSCALE:GREGORIAN
METHOD:PUBLISH
UID:c0af8312-de5e-443f-9adc-cd8149831b5c
X-WR-CALDESC:Come and join this fun arts and crafts activity for the whole 
 family!
X-WR-RELCALID:8ad06cf725bb6e7d4e8e28d12f9398c9
X-WR-TIMEZONE:America/Chicago
BEGIN:VTIMEZONE
TZID:America/Chicago
BEGIN:STANDARD
TZNAME:CST
DTSTART:20191103T020000
TZOFFSETFROM:-0500
TZOFFSETTO:-0600
RDATE:20201101T020000
RDATE:20211107T020000
END:STANDARD
BEGIN:DAYLIGHT
TZNAME:CDT
DTSTART:20200308T020000
TZOFFSETFROM:-0600
TZOFFSETTO:-0500
RDATE:20210314T020000
END:DAYLIGHT
END:VTIMEZONE
BEGIN:VEVENT
UID:c641fba1-f390-47b9-8dfc-693d8e317ac0
DTSTAMP:20260425T203051Z
DESCRIPTION:Come and join this fun arts and crafts activity for the whole f
 amily!
DTSTART;TZID=America/Chicago:20200721T123000
DTEND;TZID=America/Chicago:20200721T133000
LOCATION:Community Center
SUMMARY:Summer Arts & Crafts
END:VEVENT
END:VCALENDAR
