BEGIN:VCALENDAR
VERSION:2.0
PRODID:-//empowercdc.org//NONSGML kigkonsult.se iCalcreator 2.30.10//
CALSCALE:GREGORIAN
METHOD:PUBLISH
UID:befa5636-4918-490b-a2f4-b5d2e8872909
X-WR-CALDESC:Come and grab a free\, quick bite to eat to start your day!
X-WR-RELCALID:0089da36a0f9b2115732df918a2e38f3
X-WR-TIMEZONE:America/Chicago
BEGIN:VTIMEZONE
TZID:America/Chicago
BEGIN:STANDARD
TZNAME:CST
DTSTART:20191103T020000
TZOFFSETFROM:-0500
TZOFFSETTO:-0600
RDATE:20201101T020000
RDATE:20211107T020000
END:STANDARD
BEGIN:DAYLIGHT
TZNAME:CDT
DTSTART:20200308T020000
TZOFFSETFROM:-0600
TZOFFSETTO:-0500
RDATE:20210314T020000
END:DAYLIGHT
END:VTIMEZONE
BEGIN:VEVENT
UID:13e746d4-6b2d-40a5-ab1f-5988245e5edd
DTSTAMP:20260425T203143Z
DESCRIPTION:Come and grab a free\, quick bite to eat to start your day!
DTSTART;TZID=America/Chicago:20200717T090000
DTEND;TZID=America/Chicago:20200717T100000
LOCATION:Front of Leasing Office
SUMMARY:Community Breakfast Social
END:VEVENT
END:VCALENDAR
