BEGIN:VCALENDAR
VERSION:2.0
PRODID:-//empowercdc.org//NONSGML kigkonsult.se iCalcreator 2.30.10//
CALSCALE:GREGORIAN
METHOD:PUBLISH
UID:e2e7fe27-f2d6-4510-a10a-048311ce1de7
X-WR-CALDESC:Virtual Tai Chi Classes\nHosted by Baker Ripley via Zoom @ 9:3
 0AM\nREGISTER BY PHONE: 713-685-6577\nEMAIL: kgilliam@BAKERRIPLEY.ORG\n
X-WR-RELCALID:97daac6634c2153e11f3088a6654b2b0
X-WR-TIMEZONE:America/Chicago
BEGIN:VTIMEZONE
TZID:America/Chicago
BEGIN:STANDARD
TZNAME:CST
DTSTART:20191103T020000
TZOFFSETFROM:-0500
TZOFFSETTO:-0600
RDATE:20201101T020000
RDATE:20211107T020000
END:STANDARD
BEGIN:DAYLIGHT
TZNAME:CDT
DTSTART:20200308T020000
TZOFFSETFROM:-0600
TZOFFSETTO:-0500
RDATE:20210314T020000
END:DAYLIGHT
END:VTIMEZONE
BEGIN:VEVENT
UID:dd2a3335-4f6e-4bc5-a353-8ecba002e576
DTSTAMP:20260425T203308Z
DESCRIPTION:Virtual Tai Chi Classes\nHosted by Baker Ripley via Zoom @ 9:30
 AM\nREGISTER BY PHONE: 713-685-6577\nEMAIL: kgilliam@BAKERRIPLEY.ORG\n
DTSTART;TZID=America/Chicago:20200715T093000
DTEND;TZID=America/Chicago:20200715T103000
LOCATION:Online
SUMMARY:Virtual Tai Chi Class
END:VEVENT
END:VCALENDAR
