BEGIN:VCALENDAR
VERSION:2.0
PRODID:-//empowercdc.org//NONSGML kigkonsult.se iCalcreator 2.30.10//
CALSCALE:GREGORIAN
METHOD:PUBLISH
UID:0c2b2a74-8afd-4ee9-ac91-6bfb90bf31eb
X-WR-CALDESC:Virtual Tai Chi Classes\nHosted by Baker Ripley via Zoom @ 9:3
 0AM\nREGISTER BY PHONE: 713-685-6577\nEMAIL: kgilliam@BAKERRIPLEY.ORG\n
X-WR-RELCALID:7b5a931346dd10051a5e1bd5440fee5a
X-WR-TIMEZONE:America/Chicago
BEGIN:VTIMEZONE
TZID:America/Chicago
BEGIN:STANDARD
TZNAME:CST
DTSTART:20191103T020000
TZOFFSETFROM:-0500
TZOFFSETTO:-0600
RDATE:20201101T020000
RDATE:20211107T020000
END:STANDARD
BEGIN:DAYLIGHT
TZNAME:CDT
DTSTART:20200308T020000
TZOFFSETFROM:-0600
TZOFFSETTO:-0500
RDATE:20210314T020000
END:DAYLIGHT
END:VTIMEZONE
BEGIN:VEVENT
UID:663b725f-18a3-4bbf-b615-b91fa44dd183
DTSTAMP:20260425T203252Z
DESCRIPTION:Virtual Tai Chi Classes\nHosted by Baker Ripley via Zoom @ 9:30
 AM\nREGISTER BY PHONE: 713-685-6577\nEMAIL: kgilliam@BAKERRIPLEY.ORG\n
DTSTART;TZID=America/Chicago:20200708T093000
DTEND;TZID=America/Chicago:20200708T103000
LOCATION:Online
SUMMARY:Virtual Tai Chi Class
END:VEVENT
END:VCALENDAR
