BEGIN:VCALENDAR
VERSION:2.0
PRODID:-//empowercdc.org//NONSGML kigkonsult.se iCalcreator 2.30.10//
CALSCALE:GREGORIAN
METHOD:PUBLISH
UID:8c72abfc-e93d-4802-9154-a6856b469178
X-WR-CALDESC:Virtual Tai Chi Classes\nHosted by Baker Ripley via Zoom @ 9:3
 0AM\nREGISTER BY PHONE: 713-685-6577\nEMAIL: kgilliam@BAKERRIPLEY.ORG\n
X-WR-RELCALID:6326fe8197b95224ae32f269360253f5
X-WR-TIMEZONE:America/Chicago
BEGIN:VTIMEZONE
TZID:America/Chicago
BEGIN:STANDARD
TZNAME:CST
DTSTART:20191103T020000
TZOFFSETFROM:-0500
TZOFFSETTO:-0600
RDATE:20201101T020000
RDATE:20211107T020000
END:STANDARD
BEGIN:DAYLIGHT
TZNAME:CDT
DTSTART:20200308T020000
TZOFFSETFROM:-0600
TZOFFSETTO:-0500
RDATE:20210314T020000
END:DAYLIGHT
END:VTIMEZONE
BEGIN:VEVENT
UID:175c9191-1e26-46d9-a3f1-2f645c23e4cb
DTSTAMP:20260425T203241Z
DESCRIPTION:Virtual Tai Chi Classes\nHosted by Baker Ripley via Zoom @ 9:30
 AM\nREGISTER BY PHONE: 713-685-6577\nEMAIL: kgilliam@BAKERRIPLEY.ORG\n
DTSTART;TZID=America/Chicago:20200701T093000
DTEND;TZID=America/Chicago:20200701T103000
LOCATION:Online
SUMMARY:Virtual Tai Chi Class
END:VEVENT
END:VCALENDAR
