BEGIN:VCALENDAR
VERSION:2.0
PRODID:-//empowercdc.org//NONSGML kigkonsult.se iCalcreator 2.30.10//
CALSCALE:GREGORIAN
METHOD:PUBLISH
UID:0b19b7c6-3f05-4708-af93-e4d40a77b6bd
X-WR-CALDESC:
X-WR-RELCALID:2f8af4d333df5cea1eef647fa06be46d
X-WR-TIMEZONE:America/Chicago
BEGIN:VTIMEZONE
TZID:America/Chicago
BEGIN:STANDARD
TZNAME:CST
DTSTART:20191103T020000
TZOFFSETFROM:-0500
TZOFFSETTO:-0600
RDATE:20201101T020000
END:STANDARD
BEGIN:DAYLIGHT
TZNAME:CDT
DTSTART:20190310T020000
TZOFFSETFROM:-0600
TZOFFSETTO:-0500
RDATE:20200308T020000
RDATE:20210314T020000
END:DAYLIGHT
END:VTIMEZONE
BEGIN:VEVENT
UID:19bf244a-f0b2-4ec7-ae41-0e5fcdd7a901
DTSTAMP:20260426T040045Z
DESCRIPTION:
DTSTART;TZID=America/Chicago:20200224T161500
DTEND;TZID=America/Chicago:20200224T171500
LOCATION:
SUMMARY:The Kid's Reading Club
END:VEVENT
END:VCALENDAR
