BEGIN:VCALENDAR
VERSION:2.0
PRODID:-//empowercdc.org//NONSGML kigkonsult.se iCalcreator 2.30.10//
CALSCALE:GREGORIAN
METHOD:PUBLISH
UID:5e028a40-3a71-4dd5-91e2-85990f6b6108
X-WR-CALDESC:
X-WR-RELCALID:f049d5fbb5bc9ec8f73955543be1811b
X-WR-TIMEZONE:America/Chicago
BEGIN:VTIMEZONE
TZID:America/Chicago
BEGIN:STANDARD
TZNAME:CST
DTSTART:20191103T020000
TZOFFSETFROM:-0500
TZOFFSETTO:-0600
RDATE:20201101T020000
END:STANDARD
BEGIN:DAYLIGHT
TZNAME:CDT
DTSTART:20190310T020000
TZOFFSETFROM:-0600
TZOFFSETTO:-0500
RDATE:20200308T020000
RDATE:20210314T020000
END:DAYLIGHT
END:VTIMEZONE
BEGIN:VEVENT
UID:867f93b1-60dc-44af-a027-d5e0fdab8ad2
DTSTAMP:20260426T040349Z
DESCRIPTION:
DTSTART;TZID=America/Chicago:20200221T160000
DTEND;TZID=America/Chicago:20200221T170000
LOCATION:
SUMMARY:Resident Birthday Celebration
END:VEVENT
END:VCALENDAR
