BEGIN:VCALENDAR
VERSION:2.0
PRODID:-//empowercdc.org//NONSGML kigkonsult.se iCalcreator 2.30.10//
CALSCALE:GREGORIAN
METHOD:PUBLISH
UID:d1a61e79-b022-4839-832e-6661920b2fb6
X-WR-CALDESC:
X-WR-RELCALID:1fde0ff6f47e25a067535bd655fe7c70
X-WR-TIMEZONE:America/Chicago
BEGIN:VTIMEZONE
TZID:America/Chicago
BEGIN:STANDARD
TZNAME:CST
DTSTART:20191103T020000
TZOFFSETFROM:-0500
TZOFFSETTO:-0600
RDATE:20201101T020000
END:STANDARD
BEGIN:DAYLIGHT
TZNAME:CDT
DTSTART:20190310T020000
TZOFFSETFROM:-0600
TZOFFSETTO:-0500
RDATE:20200308T020000
RDATE:20210314T020000
END:DAYLIGHT
END:VTIMEZONE
BEGIN:VEVENT
UID:efa42c8e-a8e5-456b-9f99-31fbec3a8b37
DTSTAMP:20260426T035825Z
DESCRIPTION:
DTSTART;TZID=America/Chicago:20200217T161500
DTEND;TZID=America/Chicago:20200217T171500
LOCATION:
SUMMARY:The Kid's Reading Club
END:VEVENT
END:VCALENDAR
