BEGIN:VCALENDAR
VERSION:2.0
PRODID:-//empowercdc.org//NONSGML kigkonsult.se iCalcreator 2.30.10//
CALSCALE:GREGORIAN
METHOD:PUBLISH
UID:977b00c9-1ce5-469d-b8c0-6b07d858233a
X-WR-CALDESC:
X-WR-RELCALID:4b18726d95213913c04507ad0be924db
X-WR-TIMEZONE:America/Chicago
BEGIN:VTIMEZONE
TZID:America/Chicago
BEGIN:STANDARD
TZNAME:CST
DTSTART:20191103T020000
TZOFFSETFROM:-0500
TZOFFSETTO:-0600
RDATE:20201101T020000
END:STANDARD
BEGIN:DAYLIGHT
TZNAME:CDT
DTSTART:20190310T020000
TZOFFSETFROM:-0600
TZOFFSETTO:-0500
RDATE:20200308T020000
RDATE:20210314T020000
END:DAYLIGHT
END:VTIMEZONE
BEGIN:VEVENT
UID:c57e16ce-17da-4f79-b7de-36592ad38570
DTSTAMP:20260426T040107Z
DESCRIPTION:
DTSTART;TZID=America/Chicago:20200214T163000
DTEND;TZID=America/Chicago:20200214T171500
LOCATION:
SUMMARY:Be Our Valentine Celebration
END:VEVENT
END:VCALENDAR
