BEGIN:VCALENDAR
VERSION:2.0
PRODID:-//empowercdc.org//NONSGML kigkonsult.se iCalcreator 2.30.10//
CALSCALE:GREGORIAN
METHOD:PUBLISH
UID:e1268697-b289-4baa-ad17-98430bcc64d6
X-WR-CALDESC:
X-WR-RELCALID:626fe7f532f2c33d421b63b83984e38f
X-WR-TIMEZONE:America/Chicago
BEGIN:VTIMEZONE
TZID:America/Chicago
BEGIN:STANDARD
TZNAME:CST
DTSTART:20191103T020000
TZOFFSETFROM:-0500
TZOFFSETTO:-0600
RDATE:20201101T020000
END:STANDARD
BEGIN:DAYLIGHT
TZNAME:CDT
DTSTART:20190310T020000
TZOFFSETFROM:-0600
TZOFFSETTO:-0500
RDATE:20200308T020000
RDATE:20210314T020000
END:DAYLIGHT
END:VTIMEZONE
BEGIN:VEVENT
UID:195ae9c6-4c80-48cb-b2ac-c742dac249a6
DTSTAMP:20260426T035700Z
DESCRIPTION:
DTSTART;TZID=America/Chicago:20200210T161500
DTEND;TZID=America/Chicago:20200210T171500
LOCATION:
SUMMARY:The Kid's Reading Club
END:VEVENT
END:VCALENDAR
