BEGIN:VCALENDAR
VERSION:2.0
PRODID:-//empowercdc.org//NONSGML kigkonsult.se iCalcreator 2.30.10//
CALSCALE:GREGORIAN
METHOD:PUBLISH
UID:0c6040ab-1f10-4667-92ad-8b7d7f94c540
X-WR-CALDESC:
X-WR-RELCALID:251e9d203ae3b821bafc6fc8fc0bd5cb
X-WR-TIMEZONE:America/Chicago
BEGIN:VTIMEZONE
TZID:America/Chicago
BEGIN:STANDARD
TZNAME:CST
DTSTART:20191103T020000
TZOFFSETFROM:-0500
TZOFFSETTO:-0600
RDATE:20201101T020000
END:STANDARD
BEGIN:DAYLIGHT
TZNAME:CDT
DTSTART:20190310T020000
TZOFFSETFROM:-0600
TZOFFSETTO:-0500
RDATE:20200308T020000
RDATE:20210314T020000
END:DAYLIGHT
END:VTIMEZONE
BEGIN:VEVENT
UID:9201b5d8-f0e3-46f9-af93-5927ec68eb64
DTSTAMP:20260426T040453Z
DESCRIPTION:
DTSTART;TZID=America/Chicago:20200206T180000
DTEND;TZID=America/Chicago:20200206T190000
LOCATION:
SUMMARY:Fitness Class with Danisia
END:VEVENT
END:VCALENDAR
