BEGIN:VCALENDAR
VERSION:2.0
PRODID:-//empowercdc.org//NONSGML kigkonsult.se iCalcreator 2.30.10//
CALSCALE:GREGORIAN
METHOD:PUBLISH
UID:b70d8a9f-31e9-4bf8-9c7c-812ba474d637
X-WR-CALDESC:
X-WR-RELCALID:f000eb5ab8b7dd835a47f1d839560170
X-WR-TIMEZONE:America/Chicago
BEGIN:VTIMEZONE
TZID:America/Chicago
BEGIN:STANDARD
TZNAME:CST
DTSTART:20191103T020000
TZOFFSETFROM:-0500
TZOFFSETTO:-0600
RDATE:20201101T020000
END:STANDARD
BEGIN:DAYLIGHT
TZNAME:CDT
DTSTART:20190310T020000
TZOFFSETFROM:-0600
TZOFFSETTO:-0500
RDATE:20200308T020000
RDATE:20210314T020000
END:DAYLIGHT
END:VTIMEZONE
BEGIN:VEVENT
UID:59038967-098d-4ee9-be54-eaac3e7325e0
DTSTAMP:20260426T040149Z
DESCRIPTION:
DTSTART;TZID=America/Chicago:20200203T161500
DTEND;TZID=America/Chicago:20200203T171500
LOCATION:
SUMMARY:The Kid's Reading Club
END:VEVENT
END:VCALENDAR
