BEGIN:VCALENDAR
VERSION:2.0
PRODID:-//empowercdc.org//NONSGML kigkonsult.se iCalcreator 2.30.10//
CALSCALE:GREGORIAN
METHOD:PUBLISH
UID:c43e4a2a-65d5-4a11-bd52-7f0db06c9f77
X-WR-CALDESC:EXERCISE\nCHAIR EXERCISE\n@10AM
X-WR-RELCALID:8d0d1a64717a106ef0a162149fb2edbf
X-WR-TIMEZONE:America/Chicago
BEGIN:VTIMEZONE
TZID:America/Chicago
BEGIN:STANDARD
TZNAME:CST
DTSTART:20251102T020000
TZOFFSETFROM:-0500
TZOFFSETTO:-0600
RDATE:20261101T020000
END:STANDARD
BEGIN:DAYLIGHT
TZNAME:CDT
DTSTART:20260308T020000
TZOFFSETFROM:-0600
TZOFFSETTO:-0500
RDATE:20270314T020000
END:DAYLIGHT
END:VTIMEZONE
BEGIN:VEVENT
UID:552ac2dd-33f9-4d2d-9c88-4d00ddee21f2
DTSTAMP:20260419T170119Z
DESCRIPTION:EXERCISE\nCHAIR EXERCISE\n@10AM
DTSTART;TZID=America/Chicago:20260428T100000
DTEND;TZID=America/Chicago:20260428T110000
LOCATION:1717 FM359\, Richmond\, TX 77406 US
SUMMARY:Jones Creek: Exercise
END:VEVENT
END:VCALENDAR
