BEGIN:VCALENDAR
VERSION:2.0
PRODID:-//empowercdc.org//NONSGML kigkonsult.se iCalcreator 2.30.10//
CALSCALE:GREGORIAN
METHOD:PUBLISH
UID:12747247-49de-4f2c-b1db-813cc714d049
X-WR-CALDESC:ARTS & CRAFTS\nDIY BATH BOMBS\n@11AM
X-WR-RELCALID:167bf1a2970deb9ad57784b0c25c6375
X-WR-TIMEZONE:America/Chicago
BEGIN:VTIMEZONE
TZID:America/Chicago
BEGIN:STANDARD
TZNAME:CST
DTSTART:20251102T020000
TZOFFSETFROM:-0500
TZOFFSETTO:-0600
RDATE:20261101T020000
END:STANDARD
BEGIN:DAYLIGHT
TZNAME:CDT
DTSTART:20260308T020000
TZOFFSETFROM:-0600
TZOFFSETTO:-0500
RDATE:20270314T020000
END:DAYLIGHT
END:VTIMEZONE
BEGIN:VEVENT
UID:9e523edf-836f-4b66-ac22-1cd39b5518b6
DTSTAMP:20260419T165537Z
DESCRIPTION:ARTS & CRAFTS\nDIY BATH BOMBS\n@11AM
DTSTART;TZID=America/Chicago:20260427T110000
DTEND;TZID=America/Chicago:20260427T120000
LOCATION:1717 FM359\, Richmond\, TX 77406 US
SUMMARY:Jones Creek: Arts & Crafts
END:VEVENT
END:VCALENDAR
