BEGIN:VCALENDAR
VERSION:2.0
PRODID:-//empowercdc.org//NONSGML kigkonsult.se iCalcreator 2.30.10//
CALSCALE:GREGORIAN
METHOD:PUBLISH
UID:9f8bfae7-071d-4748-8d0f-aff851cb0d09
X-WR-CALDESC:EXERCISE\nCHAIR EXERCISE\n@10AM\n\nSOCIAL\nGROCERY BINGO\nCP-C
 OMMUNITY HEALTH\nCHOICE\n@11AM
X-WR-RELCALID:ace3cceef5fab86de09e1404eb7e309f
X-WR-TIMEZONE:America/Chicago
BEGIN:VTIMEZONE
TZID:America/Chicago
BEGIN:STANDARD
TZNAME:CST
DTSTART:20251102T020000
TZOFFSETFROM:-0500
TZOFFSETTO:-0600
RDATE:20261101T020000
END:STANDARD
BEGIN:DAYLIGHT
TZNAME:CDT
DTSTART:20260308T020000
TZOFFSETFROM:-0600
TZOFFSETTO:-0500
RDATE:20270314T020000
END:DAYLIGHT
END:VTIMEZONE
BEGIN:VEVENT
UID:8f887511-3aa1-46eb-bbe1-544f27ef5ec0
DTSTAMP:20260419T170359Z
DESCRIPTION:EXERCISE\nCHAIR EXERCISE\n@10AM\n\nSOCIAL\nGROCERY BINGO\nCP-CO
 MMUNITY HEALTH\nCHOICE\n@11AM
DTSTART;TZID=America/Chicago:20260413T100000
DTEND;TZID=America/Chicago:20260413T120000
LOCATION:1717 FM359\, Richmond\, TX 77406 US
SUMMARY:Jones Creek: Exercise\, Bingo
END:VEVENT
END:VCALENDAR
