BEGIN:VCALENDAR
VERSION:2.0
PRODID:-//empowercdc.org//NONSGML kigkonsult.se iCalcreator 2.30.10//
CALSCALE:GREGORIAN
METHOD:PUBLISH
UID:4c5304c5-039f-45d8-b1aa-ecd2577b21a3
X-WR-CALDESC:EXERCISE\nCHAIR EXERCISE\n@10AM\n\nARTS & CRAFTS\nDIY FLOATING
  FLOWER\nFRAMES\n@11AM
X-WR-RELCALID:1feb11f93585779aca26abe92f4eded3
X-WR-TIMEZONE:America/Chicago
BEGIN:VTIMEZONE
TZID:America/Chicago
BEGIN:STANDARD
TZNAME:CST
DTSTART:20251102T020000
TZOFFSETFROM:-0500
TZOFFSETTO:-0600
RDATE:20261101T020000
END:STANDARD
BEGIN:DAYLIGHT
TZNAME:CDT
DTSTART:20260308T020000
TZOFFSETFROM:-0600
TZOFFSETTO:-0500
RDATE:20270314T020000
END:DAYLIGHT
END:VTIMEZONE
BEGIN:VEVENT
UID:f9dc8e44-a871-4522-8c37-2efd26af77de
DTSTAMP:20260419T170400Z
DESCRIPTION:EXERCISE\nCHAIR EXERCISE\n@10AM\n\nARTS & CRAFTS\nDIY FLOATING 
 FLOWER\nFRAMES\n@11AM
DTSTART;TZID=America/Chicago:20260406T100000
DTEND;TZID=America/Chicago:20260406T120000
LOCATION:1717 FM359\, Richmond\, TX 77406 US
SUMMARY:Jones Creek: Exercise\, Arts & Crafts
END:VEVENT
END:VCALENDAR
