BEGIN:VCALENDAR
VERSION:2.0
PRODID:-//empowercdc.org//NONSGML kigkonsult.se iCalcreator 2.30.10//
CALSCALE:GREGORIAN
METHOD:PUBLISH
UID:db6ab929-f675-4b7d-959b-8437e5b51485
X-WR-CALDESC:
X-WR-RELCALID:1bd1330bb2ca843a39d7358e73e5f633
X-WR-TIMEZONE:America/Chicago
BEGIN:VTIMEZONE
TZID:America/Chicago
BEGIN:STANDARD
TZNAME:CST
DTSTART:20221106T020000
TZOFFSETFROM:-0500
TZOFFSETTO:-0600
RDATE:20231105T020000
END:STANDARD
BEGIN:DAYLIGHT
TZNAME:CDT
DTSTART:20220313T020000
TZOFFSETFROM:-0600
TZOFFSETTO:-0500
RDATE:20230312T020000
RDATE:20240310T020000
END:DAYLIGHT
END:VTIMEZONE
BEGIN:VEVENT
UID:6f02442e-efed-4e2e-937b-08c95aa9dbaf
DTSTAMP:20260426T010503Z
DESCRIPTION:
DTSTART;TZID=America/Chicago:20230210T110000
DTEND;TZID=America/Chicago:20230210T120000
LOCATION:
SUMMARY:Sit and Be Fit @ Campanile at Jones Creek
END:VEVENT
END:VCALENDAR
