BEGIN:VCALENDAR
VERSION:2.0
PRODID:-//empowercdc.org//NONSGML kigkonsult.se iCalcreator 2.30.10//
CALSCALE:GREGORIAN
METHOD:PUBLISH
UID:b41f073e-d24d-4ad4-9382-522b6e984e05
X-WR-CALDESC:
X-WR-RELCALID:e3c3bed99ca0ec41afaebd1c08d789a4
X-WR-TIMEZONE:America/Chicago
BEGIN:VTIMEZONE
TZID:America/Chicago
BEGIN:STANDARD
TZNAME:CST
DTSTART:20221106T020000
TZOFFSETFROM:-0500
TZOFFSETTO:-0600
RDATE:20231105T020000
END:STANDARD
BEGIN:DAYLIGHT
TZNAME:CDT
DTSTART:20220313T020000
TZOFFSETFROM:-0600
TZOFFSETTO:-0500
RDATE:20230312T020000
RDATE:20240310T020000
END:DAYLIGHT
END:VTIMEZONE
BEGIN:VEVENT
UID:592a872a-ba12-480a-b5e7-a9f15775d87e
DTSTAMP:20260425T231506Z
DESCRIPTION:
DTSTART;TZID=America/Chicago:20230131T090000
DTEND;TZID=America/Chicago:20230131T100000
LOCATION:
SUMMARY:Mindful Moment Exercise
END:VEVENT
END:VCALENDAR
