BEGIN:VCALENDAR
VERSION:2.0
PRODID:-//empowercdc.org//NONSGML kigkonsult.se iCalcreator 2.30.10//
CALSCALE:GREGORIAN
METHOD:PUBLISH
UID:d9d8e44e-15b7-436f-b56a-cfe0203a619d
X-WR-CALDESC:
X-WR-RELCALID:c7e638b0521307e38af8e423e2ba2294
X-WR-TIMEZONE:America/Chicago
BEGIN:VTIMEZONE
TZID:America/Chicago
BEGIN:STANDARD
TZNAME:CST
DTSTART:20221106T020000
TZOFFSETFROM:-0500
TZOFFSETTO:-0600
RDATE:20231105T020000
END:STANDARD
BEGIN:DAYLIGHT
TZNAME:CDT
DTSTART:20220313T020000
TZOFFSETFROM:-0600
TZOFFSETTO:-0500
RDATE:20230312T020000
RDATE:20240310T020000
END:DAYLIGHT
END:VTIMEZONE
BEGIN:VEVENT
UID:4dc6a5c8-5cd1-4a4b-a4a2-cdc7d4e04f45
DTSTAMP:20260425T214007Z
DESCRIPTION:
DTSTART;TZID=America/Chicago:20221226T100000
DTEND;TZID=America/Chicago:20221226T110000
LOCATION:
SUMMARY:Resident Led Bingo
END:VEVENT
END:VCALENDAR
