BEGIN:VCALENDAR
VERSION:2.0
PRODID:-//empowercdc.org//NONSGML kigkonsult.se iCalcreator 2.30.10//
CALSCALE:GREGORIAN
METHOD:PUBLISH
UID:caa71ecd-2390-475d-9b4f-305aeb153fcf
X-WR-CALDESC:
X-WR-RELCALID:68b53959a9e74baaf2698286a7a8167b
X-WR-TIMEZONE:America/Chicago
BEGIN:VTIMEZONE
TZID:America/Chicago
BEGIN:STANDARD
TZNAME:CST
DTSTART:20211107T020000
TZOFFSETFROM:-0500
TZOFFSETTO:-0600
RDATE:20221106T020000
RDATE:20231105T020000
END:STANDARD
BEGIN:DAYLIGHT
TZNAME:CDT
DTSTART:20220313T020000
TZOFFSETFROM:-0600
TZOFFSETTO:-0500
RDATE:20230312T020000
RDATE:20240310T020000
END:DAYLIGHT
END:VTIMEZONE
BEGIN:VEVENT
UID:43095b8f-1629-43db-836d-29ec27320f3c
DTSTAMP:20260425T185049Z
DESCRIPTION:
DTSTART;TZID=America/Chicago:20221018T130000
DTEND;TZID=America/Chicago:20221018T140000
LOCATION:
SUMMARY:Arts and Crafts: A Masterpiece in the Making
END:VEVENT
END:VCALENDAR
