BEGIN:VCALENDAR
VERSION:2.0
PRODID:-//empowercdc.org//NONSGML kigkonsult.se iCalcreator 2.30.10//
CALSCALE:GREGORIAN
METHOD:PUBLISH
UID:1719edb9-ffb5-48a5-aa4e-7090485899b9
X-WR-CALDESC:
X-WR-RELCALID:3b655ac672441592d38faff5b44abf57
X-WR-TIMEZONE:America/Chicago
BEGIN:VTIMEZONE
TZID:America/Chicago
BEGIN:STANDARD
TZNAME:CST
DTSTART:20211107T020000
TZOFFSETFROM:-0500
TZOFFSETTO:-0600
RDATE:20221106T020000
RDATE:20231105T020000
END:STANDARD
BEGIN:DAYLIGHT
TZNAME:CDT
DTSTART:20220313T020000
TZOFFSETFROM:-0600
TZOFFSETTO:-0500
RDATE:20230312T020000
END:DAYLIGHT
END:VTIMEZONE
BEGIN:VEVENT
UID:68bf4159-0da2-4b9b-9334-683b87c7c56a
DTSTAMP:20260425T231527Z
DESCRIPTION:
DTSTART;TZID=America/Chicago:20220726T090000
DTEND;TZID=America/Chicago:20220726T100000
LOCATION:
SUMMARY:Mindful Moment Exercise
END:VEVENT
END:VCALENDAR
