BEGIN:VCALENDAR
VERSION:2.0
PRODID:-//empowercdc.org//NONSGML kigkonsult.se iCalcreator 2.30.10//
CALSCALE:GREGORIAN
METHOD:PUBLISH
UID:71e57f49-83a2-4ae1-82f9-1bcd46267aa8
X-WR-CALDESC:
X-WR-RELCALID:a281ca11fa9cf1804e6d5d5cfc09f05c
X-WR-TIMEZONE:America/Chicago
BEGIN:VTIMEZONE
TZID:America/Chicago
BEGIN:STANDARD
TZNAME:CST
DTSTART:20211107T020000
TZOFFSETFROM:-0500
TZOFFSETTO:-0600
RDATE:20221106T020000
RDATE:20231105T020000
END:STANDARD
BEGIN:DAYLIGHT
TZNAME:CDT
DTSTART:20220313T020000
TZOFFSETFROM:-0600
TZOFFSETTO:-0500
RDATE:20230312T020000
END:DAYLIGHT
END:VTIMEZONE
BEGIN:VEVENT
UID:6a31735f-3956-4644-b7f4-90c54671b30c
DTSTAMP:20260425T231634Z
DESCRIPTION:
DTSTART;TZID=America/Chicago:20220704T100000
DTEND;TZID=America/Chicago:20220704T110000
LOCATION:
SUMMARY:Resident Led Bingo
END:VEVENT
END:VCALENDAR
