BEGIN:VCALENDAR
VERSION:2.0
PRODID:-//empowercdc.org//NONSGML kigkonsult.se iCalcreator 2.30.10//
CALSCALE:GREGORIAN
METHOD:PUBLISH
UID:9312e9f2-71f8-43bc-bcf4-e1a0bd5024ae
X-WR-CALDESC:
X-WR-RELCALID:fe46db6fc88dbd4987e443fa360edc1a
X-WR-TIMEZONE:America/Chicago
BEGIN:VTIMEZONE
TZID:America/Chicago
BEGIN:STANDARD
TZNAME:CST
DTSTART:20211107T020000
TZOFFSETFROM:-0500
TZOFFSETTO:-0600
RDATE:20221106T020000
END:STANDARD
BEGIN:DAYLIGHT
TZNAME:CDT
DTSTART:20220313T020000
TZOFFSETFROM:-0600
TZOFFSETTO:-0500
RDATE:20230312T020000
END:DAYLIGHT
END:VTIMEZONE
BEGIN:VEVENT
UID:fb751ef5-95c5-4fb2-a3d5-01cfd06a1199
DTSTAMP:20260426T040338Z
DESCRIPTION:
DTSTART;TZID=America/Chicago:20220425T100000
DTEND;TZID=America/Chicago:20220425T110000
LOCATION:
SUMMARY:Resident Led Bingo
END:VEVENT
END:VCALENDAR
