BEGIN:VCALENDAR
VERSION:2.0
PRODID:-//empowercdc.org//NONSGML kigkonsult.se iCalcreator 2.30.10//
CALSCALE:GREGORIAN
METHOD:PUBLISH
UID:3274d189-1778-45ca-a5c9-a74be8b0047a
X-WR-CALDESC:ARTS & CRAFTS-\nEmpower\n\nPaint w/ a Twist\n@3:00PM\n*Registr
 ation Required*
X-WR-RELCALID:142649b7bcad2470a145eff69862b490
X-WR-TIMEZONE:America/Chicago
BEGIN:VTIMEZONE
TZID:America/Chicago
BEGIN:STANDARD
TZNAME:CST
DTSTART:20251102T020000
TZOFFSETFROM:-0500
TZOFFSETTO:-0600
RDATE:20261101T020000
END:STANDARD
BEGIN:DAYLIGHT
TZNAME:CDT
DTSTART:20260308T020000
TZOFFSETFROM:-0600
TZOFFSETTO:-0500
RDATE:20270314T020000
END:DAYLIGHT
END:VTIMEZONE
BEGIN:VEVENT
UID:1205b2e5-4591-45d0-a557-d085b5cf1011
DTSTAMP:20260421T230044Z
DESCRIPTION:ARTS & CRAFTS-\nEmpower\n\nPaint w/ a Twist\n@3:00PM\n*Registra
 tion Required*
DTSTART;TZID=America/Chicago:20260430T150000
DTEND;TZID=America/Chicago:20260430T160000
LOCATION:325 Flagship Boulevard\, Montgomery\, AL 77316 US
SUMMARY:The Heritage: Arts & Crafts
END:VEVENT
END:VCALENDAR
