BEGIN:VCALENDAR
VERSION:2.0
PRODID:-//empowercdc.org//NONSGML kigkonsult.se iCalcreator 2.30.10//
CALSCALE:GREGORIAN
METHOD:PUBLISH
UID:4f045a91-47fd-4a84-b7e3-7cea3d9a7789
X-WR-CALDESC:EXERCISE\nCHAIR EXERCISE\n@10AM\n\nARTS & CRAFTS\nDIY BATH BOM
 BD\n@11AM
X-WR-RELCALID:819b4fbb407709e876d1fb8b9e965b83
X-WR-TIMEZONE:America/Chicago
BEGIN:VTIMEZONE
TZID:America/Chicago
BEGIN:STANDARD
TZNAME:CST
DTSTART:20251102T020000
TZOFFSETFROM:-0500
TZOFFSETTO:-0600
RDATE:20261101T020000
END:STANDARD
BEGIN:DAYLIGHT
TZNAME:CDT
DTSTART:20260308T020000
TZOFFSETFROM:-0600
TZOFFSETTO:-0500
RDATE:20270314T020000
END:DAYLIGHT
END:VTIMEZONE
BEGIN:VEVENT
UID:559d89af-488e-4e94-a1f5-538f4e3fdbf1
DTSTAMP:20260421T230832Z
DESCRIPTION:EXERCISE\nCHAIR EXERCISE\n@10AM\n\nARTS & CRAFTS\nDIY BATH BOMB
 D\n@11AM
DTSTART;TZID=America/Chicago:20260430T100000
DTEND;TZID=America/Chicago:20260430T120000
LOCATION:15707 Kuykendahl Ct\, Conroe\, TX 77384 US
SUMMARY:Kuykendalh Court: Exercise\, Arts & Crafts
END:VEVENT
END:VCALENDAR
