BEGIN:VCALENDAR
VERSION:2.0
PRODID:-//empowercdc.org//NONSGML kigkonsult.se iCalcreator 2.30.10//
CALSCALE:GREGORIAN
METHOD:PUBLISH
UID:4344bb5c-18ce-4a93-a9c3-adad89a3b78b
X-WR-CALDESC:SOCIAL - Empower\nBirthday Social\n@ 3:00 PM
X-WR-RELCALID:f9db2cbb0f94e4d7b9e2e71782384654
X-WR-TIMEZONE:America/Chicago
BEGIN:VTIMEZONE
TZID:America/Chicago
BEGIN:STANDARD
TZNAME:CST
DTSTART:20251102T020000
TZOFFSETFROM:-0500
TZOFFSETTO:-0600
RDATE:20261101T020000
END:STANDARD
BEGIN:DAYLIGHT
TZNAME:CDT
DTSTART:20260308T020000
TZOFFSETFROM:-0600
TZOFFSETTO:-0500
RDATE:20270314T020000
END:DAYLIGHT
END:VTIMEZONE
BEGIN:VEVENT
UID:a95d2201-8725-4f6d-9b6f-b7f29c05fb1e
DTSTAMP:20260421T230044Z
DESCRIPTION:SOCIAL - Empower\nBirthday Social\n@ 3:00 PM
DTSTART;TZID=America/Chicago:20260428T150000
DTEND;TZID=America/Chicago:20260428T160000
LOCATION:6725 Brittmoore Road\, Houston\, TX 77041 US
SUMMARY:Brittmoore: Birthday Social
END:VEVENT
END:VCALENDAR
