BEGIN:VCALENDAR
VERSION:2.0
PRODID:-//empowercdc.org//NONSGML kigkonsult.se iCalcreator 2.30.10//
CALSCALE:GREGORIAN
METHOD:PUBLISH
UID:cf1a403f-4490-4ec1-9f22-7e955bd85bba
X-WR-CALDESC:Exercise Empower\nTai Chi\n@3:30 PM
X-WR-RELCALID:b43c10090e7b98af0cb35adb3c7f1ca5
X-WR-TIMEZONE:America/Chicago
BEGIN:VTIMEZONE
TZID:America/Chicago
BEGIN:STANDARD
TZNAME:CST
DTSTART:20251102T020000
TZOFFSETFROM:-0500
TZOFFSETTO:-0600
RDATE:20261101T020000
END:STANDARD
BEGIN:DAYLIGHT
TZNAME:CDT
DTSTART:20260308T020000
TZOFFSETFROM:-0600
TZOFFSETTO:-0500
RDATE:20270314T020000
END:DAYLIGHT
END:VTIMEZONE
BEGIN:VEVENT
UID:610f3dd9-5703-42f0-8504-41b7b7ac11c9
DTSTAMP:20260421T225639Z
DESCRIPTION:Exercise Empower\nTai Chi\n@3:30 PM
DTSTART;TZID=America/Chicago:20260427T153000
DTEND;TZID=America/Chicago:20260427T163000
LOCATION:12353 Huffmeister Rd\, Cypress\, TX 77429 US
SUMMARY:The Meadows: Exercise
END:VEVENT
END:VCALENDAR
