BEGIN:VCALENDAR
VERSION:2.0
PRODID:-//empowercdc.org//NONSGML kigkonsult.se iCalcreator 2.30.10//
CALSCALE:GREGORIAN
METHOD:PUBLISH
UID:7d9d08ca-ebe1-4e94-b9c8-9d69c787569a
X-WR-CALDESC:TxSMP- Empower\nScam of the Month\n@3:00PM
X-WR-RELCALID:9613bda584c3be59555f2f8776bf5778
X-WR-TIMEZONE:America/Chicago
BEGIN:VTIMEZONE
TZID:America/Chicago
BEGIN:STANDARD
TZNAME:CST
DTSTART:20251102T020000
TZOFFSETFROM:-0500
TZOFFSETTO:-0600
RDATE:20261101T020000
END:STANDARD
BEGIN:DAYLIGHT
TZNAME:CDT
DTSTART:20260308T020000
TZOFFSETFROM:-0600
TZOFFSETTO:-0500
RDATE:20270314T020000
END:DAYLIGHT
END:VTIMEZONE
BEGIN:VEVENT
UID:7c933b98-c875-4d94-b89a-dbc7cc91bb98
DTSTAMP:20260421T230547Z
DESCRIPTION:TxSMP- Empower\nScam of the Month\n@3:00PM
DTSTART;TZID=America/Chicago:20260427T150000
DTEND;TZID=America/Chicago:20260427T160000
LOCATION:325 Flagship Boulevard\, Montgomery\, AL 77316 US
SUMMARY:The Heritage: Scam of the Month
END:VEVENT
END:VCALENDAR
