BEGIN:VCALENDAR
VERSION:2.0
PRODID:-//empowercdc.org//NONSGML kigkonsult.se iCalcreator 2.30.10//
CALSCALE:GREGORIAN
METHOD:PUBLISH
UID:92e07a3c-b79b-4def-84a6-f2a31c84b16a
X-WR-CALDESC:TxSMP- Empower\nScam of the Month\n@11:00AM
X-WR-RELCALID:a4fd546699b39b54d0f4e328d8f6b6cc
X-WR-TIMEZONE:America/Chicago
BEGIN:VTIMEZONE
TZID:America/Chicago
BEGIN:STANDARD
TZNAME:CST
DTSTART:20251102T020000
TZOFFSETFROM:-0500
TZOFFSETTO:-0600
RDATE:20261101T020000
END:STANDARD
BEGIN:DAYLIGHT
TZNAME:CDT
DTSTART:20260308T020000
TZOFFSETFROM:-0600
TZOFFSETTO:-0500
RDATE:20270314T020000
END:DAYLIGHT
END:VTIMEZONE
BEGIN:VEVENT
UID:41653a06-048b-4aa8-9435-c5d20ec5ea4f
DTSTAMP:20260422T000939Z
DESCRIPTION:TxSMP- Empower\nScam of the Month\n@11:00AM
DTSTART;TZID=America/Chicago:20260427T110000
DTEND;TZID=America/Chicago:20260427T120000
LOCATION:219 Flasgship Blvd\, Montgomery\, TX 77316 US
SUMMARY:The Heritage 55+: Scam of the Month
END:VEVENT
END:VCALENDAR
