BEGIN:VCALENDAR
VERSION:2.0
PRODID:-//empowercdc.org//NONSGML kigkonsult.se iCalcreator 2.30.10//
CALSCALE:GREGORIAN
METHOD:PUBLISH
UID:f659d466-6bc4-4aed-9a02-84e3511a0ae1
X-WR-CALDESC:SOCIAL-\nWellcare- CP\n\nHealth & Wellness\n@10:00AM
X-WR-RELCALID:dbe61fce078ed3798a0c4040de390617
X-WR-TIMEZONE:America/Chicago
BEGIN:VTIMEZONE
TZID:America/Chicago
BEGIN:STANDARD
TZNAME:CST
DTSTART:20251102T020000
TZOFFSETFROM:-0500
TZOFFSETTO:-0600
RDATE:20261101T020000
END:STANDARD
BEGIN:DAYLIGHT
TZNAME:CDT
DTSTART:20260308T020000
TZOFFSETFROM:-0600
TZOFFSETTO:-0500
RDATE:20270314T020000
END:DAYLIGHT
END:VTIMEZONE
BEGIN:VEVENT
UID:d514170b-e179-4876-a6ed-e2e74ec8e11a
DTSTAMP:20260422T000649Z
DESCRIPTION:SOCIAL-\nWellcare- CP\n\nHealth & Wellness\n@10:00AM
DTSTART;TZID=America/Chicago:20260427T100000
DTEND;TZID=America/Chicago:20260427T113000
LOCATION:1830 Hollyoak Dr\, Houston\, AL 77084 US
SUMMARY:Hollyoak: Health & Wellness
END:VEVENT
END:VCALENDAR
