BEGIN:VCALENDAR
VERSION:2.0
PRODID:-//empowercdc.org//NONSGML kigkonsult.se iCalcreator 2.30.10//
CALSCALE:GREGORIAN
METHOD:PUBLISH
UID:e249b647-d256-4603-8b23-cf62dcca15d8
X-WR-CALDESC:Exercise Empower\nTai Chi\n@3:30 PM\n\nSOCIAL - Empower\nEaste
 r Social\n@ 4:30 PM
X-WR-RELCALID:fe0c35878440ef6ce1b3018104c543ec
X-WR-TIMEZONE:America/Chicago
BEGIN:VTIMEZONE
TZID:America/Chicago
BEGIN:STANDARD
TZNAME:CST
DTSTART:20251102T020000
TZOFFSETFROM:-0500
TZOFFSETTO:-0600
RDATE:20261101T020000
END:STANDARD
BEGIN:DAYLIGHT
TZNAME:CDT
DTSTART:20260308T020000
TZOFFSETFROM:-0600
TZOFFSETTO:-0500
RDATE:20270314T020000
END:DAYLIGHT
END:VTIMEZONE
BEGIN:VEVENT
UID:dd4dac04-f3d1-479e-82f5-f050aead46b8
DTSTAMP:20260421T225650Z
DESCRIPTION:Exercise Empower\nTai Chi\n@3:30 PM\n\nSOCIAL - Empower\nEaster
  Social\n@ 4:30 PM
DTSTART;TZID=America/Chicago:20260424T153000
DTEND;TZID=America/Chicago:20260424T173000
LOCATION:12353 Huffmeister Rd\, Cypress\, TX 77429 US
SUMMARY:The Meadows: Exercise\, Easter Social
END:VEVENT
END:VCALENDAR
