BEGIN:VCALENDAR
VERSION:2.0
PRODID:-//empowercdc.org//NONSGML kigkonsult.se iCalcreator 2.30.10//
CALSCALE:GREGORIAN
METHOD:PUBLISH
UID:7e0f78ed-082c-427c-81ab-27690db47363
X-WR-CALDESC:TxSMP- Empower\nScam of the\nMonth\n@11:00AM
X-WR-RELCALID:dc5426c509bf7f635e9d7577345920c5
X-WR-TIMEZONE:America/Chicago
BEGIN:VTIMEZONE
TZID:America/Chicago
BEGIN:STANDARD
TZNAME:CST
DTSTART:20251102T020000
TZOFFSETFROM:-0500
TZOFFSETTO:-0600
RDATE:20261101T020000
END:STANDARD
BEGIN:DAYLIGHT
TZNAME:CDT
DTSTART:20260308T020000
TZOFFSETFROM:-0600
TZOFFSETTO:-0500
RDATE:20270314T020000
END:DAYLIGHT
END:VTIMEZONE
BEGIN:VEVENT
UID:3bab0d6d-49b2-4821-80db-e661a9079746
DTSTAMP:20260422T003801Z
DESCRIPTION:TxSMP- Empower\nScam of the\nMonth\n@11:00AM
DTSTART;TZID=America/Chicago:20260424T110000
DTEND;TZID=America/Chicago:20260424T120000
LOCATION:1830 Hollyoak Dr\, Houston\, AL 77084 US
SUMMARY:Hollyoak: Scam of the Month
END:VEVENT
END:VCALENDAR
