BEGIN:VCALENDAR
VERSION:2.0
PRODID:-//empowercdc.org//NONSGML kigkonsult.se iCalcreator 2.30.10//
CALSCALE:GREGORIAN
METHOD:PUBLISH
UID:d4ad4dc2-b3f2-40dc-876c-5a47c57f153a
X-WR-CALDESC:HEALTH & NUTRITION-\nEmpower\n\nTai Chi & Me\n@3:00PM
X-WR-RELCALID:3634be4aff183843bfb74954dc61dd98
X-WR-TIMEZONE:America/Chicago
BEGIN:VTIMEZONE
TZID:America/Chicago
BEGIN:STANDARD
TZNAME:CST
DTSTART:20251102T020000
TZOFFSETFROM:-0500
TZOFFSETTO:-0600
RDATE:20261101T020000
END:STANDARD
BEGIN:DAYLIGHT
TZNAME:CDT
DTSTART:20260308T020000
TZOFFSETFROM:-0600
TZOFFSETTO:-0500
RDATE:20270314T020000
END:DAYLIGHT
END:VTIMEZONE
BEGIN:VEVENT
UID:0069d537-edfb-4128-a77e-7a9c69e754f5
DTSTAMP:20260421T230422Z
DESCRIPTION:HEALTH & NUTRITION-\nEmpower\n\nTai Chi & Me\n@3:00PM
DTSTART;TZID=America/Chicago:20260423T150000
DTEND;TZID=America/Chicago:20260423T160000
LOCATION:325 Flagship Boulevard\, Montgomery\, AL 77316 US
SUMMARY:The Heritage: Health & Nutrition
END:VEVENT
END:VCALENDAR
