BEGIN:VCALENDAR
VERSION:2.0
PRODID:-//empowercdc.org//NONSGML kigkonsult.se iCalcreator 2.30.10//
CALSCALE:GREGORIAN
METHOD:PUBLISH
UID:648e98aa-545a-48a0-91e9-7288da63c6bb
X-WR-CALDESC:HOUSTON FOOD BANK\n@9AM -1PM\n
X-WR-RELCALID:2857ec2d786c19fb2cb09d0384f60b30
X-WR-TIMEZONE:America/Chicago
BEGIN:VTIMEZONE
TZID:America/Chicago
BEGIN:STANDARD
TZNAME:CST
DTSTART:20251102T020000
TZOFFSETFROM:-0500
TZOFFSETTO:-0600
RDATE:20261101T020000
END:STANDARD
BEGIN:DAYLIGHT
TZNAME:CDT
DTSTART:20260308T020000
TZOFFSETFROM:-0600
TZOFFSETTO:-0500
RDATE:20270314T020000
END:DAYLIGHT
END:VTIMEZONE
BEGIN:VEVENT
UID:31fd1e29-32ba-4feb-91af-53b423cd444d
DTSTAMP:20260421T231302Z
DESCRIPTION:HOUSTON FOOD BANK\n@9AM -1PM\n
DTSTART;TZID=America/Chicago:20260422T090000
DTEND;TZID=America/Chicago:20260422T130000
LOCATION:1620 Spencer Hwy\, South Houston\, TX 77587 US
SUMMARY:Windsor Gardens: Houston Food Bank
END:VEVENT
END:VCALENDAR
